BEGIN:VCALENDAR
VERSION:2.0
PRODID:-//Tukios.com/
BEGIN:VEVENT
UID:4e5632f3-b218-43da-96b4-d716db7aa6af@www.frontierfuneralhome.com
DTSTAMP:20260424T024636Z
DTSTART:20260503T200000Z
DTEND:20260503T210000Z
SUMMARY:Memorial Service
DESCRIPTION:
URL:https://www.frontierfuneralhome.com/obituaries/grace-lacy
LOCATION:Great Falls History Museum 422 2nd Street South  Great Falls MT 
	59405
GEO:47.499811;-111.304763
END:VEVENT
END:VCALENDAR