BEGIN:VCALENDAR
VERSION:2.0
PRODID:-//Tukios.com/
BEGIN:VEVENT
UID:4f9e8d76-057b-498d-9fbb-8d9b975f78b8@www.frontierfuneralhome.com
DTSTAMP:20260423T033024Z
DTSTART:20260506T170000Z
DTEND:20260506T180000Z
SUMMARY:Funeral Service
DESCRIPTION:
URL:https://www.frontierfuneralhome.com/obituaries/clair-mueller
LOCATION:St. John the Evangelist Catholic Church 519 1st Ave S  Fairfield 
	MT 59436
GEO:47.6132812;-111.9782953
END:VEVENT
END:VCALENDAR